BEGIN:VCALENDAR
VERSION:2.0
PRODID:icalendar-ruby
CALSCALE:GREGORIAN
METHOD:PUBLISH
BEGIN:VTIMEZONE
TZID:America/New_York
BEGIN:DAYLIGHT
DTSTART:20260308T030000
TZOFFSETFROM:-0500
TZOFFSETTO:-0400
RRULE:FREQ=YEARLY;BYDAY=2SU;BYMONTH=3
TZNAME:EDT
END:DAYLIGHT
BEGIN:STANDARD
DTSTART:20261101T010000
TZOFFSETFROM:-0400
TZOFFSETTO:-0500
RRULE:FREQ=YEARLY;BYDAY=1SU;BYMONTH=11
TZNAME:EST
END:STANDARD
END:VTIMEZONE
BEGIN:VEVENT
DTSTAMP:20260421T083612Z
UID:de40f41e-0a73-4cf7-88c0-77b1fb2e449a
DTSTART;TZID=America/New_York:20260808T083500
CLASS:PUBLIC
DESCRIPTION:Kick off Harlem Week 2026 with an exciting\, family-friendly da
 y of running that brings the whole community together.
SUMMARY:Rising NYRR at the Percy Sutton Harlem 5K
END:VEVENT
END:VCALENDAR
